Package: MAST Version: 1.35.2 Command: /home/biocbuild/bbs-3.22-bioc/R/bin/R CMD INSTALL MAST StartedAt: 2025-10-19 15:20:42 -0400 (Sun, 19 Oct 2025) EndedAt: 2025-10-19 15:21:21 -0400 (Sun, 19 Oct 2025) EllapsedTime: 39.6 seconds RetCode: 0 Status: OK