Package: MAST Version: 1.35.2 Command: /home/biocbuild/bbs-3.22-bioc/R/bin/R CMD check --install=check:MAST.install-out.txt --library=/home/biocbuild/bbs-3.22-bioc/R/site-library --timings MAST_1.35.2.tar.gz StartedAt: 2025-10-20 01:32:28 -0400 (Mon, 20 Oct 2025) EndedAt: 2025-10-20 01:41:05 -0400 (Mon, 20 Oct 2025) EllapsedTime: 516.5 seconds RetCode: 0 Status: OK CheckDir: MAST.Rcheck Warnings: 0