Package: MAST Version: 1.35.2 Command: /Library/Frameworks/R.framework/Resources/bin/R CMD INSTALL MAST StartedAt: 2025-10-17 15:21:46 -0400 (Fri, 17 Oct 2025) EndedAt: 2025-10-17 15:22:41 -0400 (Fri, 17 Oct 2025) EllapsedTime: 55.8 seconds RetCode: 0 Status: OK