Package: MAST Version: 1.35.2 Command: /Library/Frameworks/R.framework/Resources/bin/R CMD build --keep-empty-dirs --no-resave-data MAST StartedAt: 2025-10-19 17:54:42 -0400 (Sun, 19 Oct 2025) EndedAt: 2025-10-19 18:01:19 -0400 (Sun, 19 Oct 2025) EllapsedTime: 397.0 seconds RetCode: 0 Status: OK PackageFile: MAST_1.35.2.tar.gz PackageFileSize: 7.182 MiB