Package: MAST Version: 1.35.2 Command: /Library/Frameworks/R.framework/Resources/bin/R CMD build --keep-empty-dirs --no-resave-data MAST StartedAt: 2025-10-19 16:51:46 -0400 (Sun, 19 Oct 2025) EndedAt: 2025-10-19 16:53:28 -0400 (Sun, 19 Oct 2025) EllapsedTime: 101.1 seconds RetCode: 0 Status: OK PackageFile: MAST_1.35.2.tar.gz PackageFileSize: 7.183 MiB