Package: MAST Version: 1.35.2 Maintainer: Andrew McDavid MaintainerEmail: andrew.n.mcdavid at gmail.com git_url: https://git.bioconductor.org/packages/MAST git_branch: devel git_last_commit: 5c6e47f git_last_commit_date: 2025-10-17 13:03:48 -0400 (Fri, 17 Oct 2025)