Package: MANOR Version: 1.81.0 Command: /Library/Frameworks/R.framework/Resources/bin/R CMD build --keep-empty-dirs --no-resave-data MANOR StartedAt: 2025-10-21 17:57:18 -0400 (Tue, 21 Oct 2025) EndedAt: 2025-10-21 17:58:20 -0400 (Tue, 21 Oct 2025) EllapsedTime: 62.1 seconds RetCode: 0 Status: OK PackageFile: MANOR_1.81.0.tar.gz PackageFileSize: 1.695 MiB