Package: MAIT Version: 1.43.0 Command: /home/biocbuild/R/R/bin/R CMD INSTALL MAIT StartedAt: 2025-10-23 21:12:29 -0000 (Thu, 23 Oct 2025) EndedAt: 2025-10-23 21:13:40 -0000 (Thu, 23 Oct 2025) EllapsedTime: 71.3 seconds RetCode: 0 Status: OK