Package: MAIT Version: 1.43.0 Command: /home/biocbuild/R/R/bin/R CMD build --keep-empty-dirs --no-resave-data MAIT StartedAt: 2025-10-21 00:52:29 -0000 (Tue, 21 Oct 2025) EndedAt: 2025-10-21 00:56:29 -0000 (Tue, 21 Oct 2025) EllapsedTime: 240.1 seconds RetCode: 0 Status: OK PackageFile: MAIT_1.43.0.tar.gz PackageFileSize: 2.36 MiB