Package: MAIT Version: 1.43.0 Command: /home/biocbuild/bbs-3.22-bioc/R/bin/R CMD INSTALL MAIT StartedAt: 2025-10-20 15:41:03 -0400 (Mon, 20 Oct 2025) EndedAt: 2025-10-20 15:41:55 -0400 (Mon, 20 Oct 2025) EllapsedTime: 52.3 seconds RetCode: 0 Status: OK