Package: MAIT Version: 1.43.0 Command: /home/biocbuild/bbs-3.22-bioc/R/bin/R CMD check --install=check:MAIT.install-out.txt --library=/home/biocbuild/bbs-3.22-bioc/R/site-library --timings MAIT_1.43.0.tar.gz StartedAt: 2025-10-21 01:21:12 -0400 (Tue, 21 Oct 2025) EndedAt: 2025-10-21 01:30:15 -0400 (Tue, 21 Oct 2025) EllapsedTime: 542.5 seconds RetCode: 0 Status: OK CheckDir: MAIT.Rcheck Warnings: 0