Package: MAI Version: 1.16.0 Command: /home/biocbuild/R/R/bin/R CMD INSTALL MAI StartedAt: 2025-11-20 22:22:12 -0000 (Thu, 20 Nov 2025) EndedAt: 2025-11-20 22:22:49 -0000 (Thu, 20 Nov 2025) EllapsedTime: 37.6 seconds RetCode: 0 Status: OK