Package: MAI Version: 1.16.0 Command: /home/biocbuild/R/R/bin/R CMD check --install=check:MAI.install-out.txt --library=/home/biocbuild/R/R/site-library --no-vignettes --timings MAI_1.16.0.tar.gz StartedAt: 2025-11-21 12:24:00 -0000 (Fri, 21 Nov 2025) EndedAt: 2025-11-21 12:34:50 -0000 (Fri, 21 Nov 2025) EllapsedTime: 649.7 seconds RetCode: 0 Status: OK CheckDir: MAI.Rcheck Warnings: 0