Package: MAI Version: 1.16.0 Command: /home/biocbuild/R/R/bin/R CMD build --keep-empty-dirs --no-resave-data MAI StartedAt: 2025-11-21 03:34:20 -0000 (Fri, 21 Nov 2025) EndedAt: 2025-11-21 03:41:47 -0000 (Fri, 21 Nov 2025) EllapsedTime: 447.2 seconds RetCode: 0 Status: OK PackageFile: MAI_1.16.0.tar.gz PackageFileSize: 519.9 KiB