Package: MAI Version: 1.16.0 Command: /Library/Frameworks/R.framework/Resources/bin/R CMD INSTALL MAI StartedAt: 2025-11-03 15:33:15 -0500 (Mon, 03 Nov 2025) EndedAt: 2025-11-03 15:33:53 -0500 (Mon, 03 Nov 2025) EllapsedTime: 38.5 seconds RetCode: 0 Status: OK