Package: MAI Version: 1.16.0 Command: /Library/Frameworks/R.framework/Resources/bin/R CMD build --keep-empty-dirs --no-resave-data MAI StartedAt: 2025-11-03 17:35:27 -0500 (Mon, 03 Nov 2025) EndedAt: 2025-11-03 17:40:36 -0500 (Mon, 03 Nov 2025) EllapsedTime: 309.8 seconds RetCode: 0 Status: OK PackageFile: MAI_1.16.0.tar.gz PackageFileSize: 452.2 KiB