Package: MAI Version: 1.16.0 Maintainer: Jonathan Dekermanjian MaintainerEmail: Jonathan.Dekermanjian at CUAnschutz.edu git_url: https://git.bioconductor.org/packages/MAI git_branch: RELEASE_3_22 git_last_commit: e7b90f5 git_last_commit_date: 2025-10-29 11:11:14 -0500 (Wed, 29 Oct 2025)