Package: MAGeCKFlute Version: 2.11.1 Command: F:\biocbuild\bbs-3.22-bioc\R\bin\R.exe CMD INSTALL MAGeCKFlute StartedAt: 2025-04-08 17:01:00 -0400 (Tue, 08 Apr 2025) EndedAt: 2025-04-08 17:01:57 -0400 (Tue, 08 Apr 2025) EllapsedTime: 57.2 seconds RetCode: 0 Status: OK