Package: MAGAR Version: 1.17.0 Command: /home/biocbuild/R/R/bin/R CMD check --install=check:MAGAR.install-out.txt --library=/home/biocbuild/R/R/site-library --no-vignettes --timings MAGAR_1.17.0.tar.gz StartedAt: 2025-10-17 10:38:46 -0000 (Fri, 17 Oct 2025) EndedAt: 2025-10-17 10:48:28 -0000 (Fri, 17 Oct 2025) EllapsedTime: 581.6 seconds RetCode: 0 Status: OK CheckDir: MAGAR.Rcheck Warnings: 0