Package: MAGAR Version: 1.17.0 Command: /home/biocbuild/R/R/bin/R CMD build --keep-empty-dirs --no-resave-data MAGAR StartedAt: 2025-10-17 02:17:01 -0000 (Fri, 17 Oct 2025) EndedAt: 2025-10-17 02:19:37 -0000 (Fri, 17 Oct 2025) EllapsedTime: 156.0 seconds RetCode: 0 Status: OK PackageFile: MAGAR_1.17.0.tar.gz PackageFileSize: 896 KiB