Package: MAGAR Version: 1.17.0 Command: rm -rf MAGAR.buildbin-libdir && mkdir MAGAR.buildbin-libdir && F:\biocbuild\bbs-3.22-bioc\R\bin\R.exe CMD INSTALL --build --library=MAGAR.buildbin-libdir MAGAR_1.17.0.tar.gz StartedAt: 2025-08-15 10:36:49 -0400 (Fri, 15 Aug 2025) EndedAt: 2025-08-15 10:38:42 -0400 (Fri, 15 Aug 2025) EllapsedTime: 113.4 seconds RetCode: 0 Status: OK PackageFile: MAGAR_1.17.0.zip PackageFileSize: 1.352 MiB