Package: MAGAR Version: 1.17.0 Command: /home/biocbuild/bbs-3.22-bioc/R/bin/R CMD INSTALL MAGAR StartedAt: 2025-10-19 16:03:12 -0400 (Sun, 19 Oct 2025) EndedAt: 2025-10-19 16:04:15 -0400 (Sun, 19 Oct 2025) EllapsedTime: 62.3 seconds RetCode: 0 Status: OK