Package: MAGAR Version: 1.17.0 Command: /home/biocbuild/bbs-3.22-bioc/R/bin/R CMD check --install=check:MAGAR.install-out.txt --library=/home/biocbuild/bbs-3.22-bioc/R/site-library --timings MAGAR_1.17.0.tar.gz StartedAt: 2025-10-20 01:27:29 -0400 (Mon, 20 Oct 2025) EndedAt: 2025-10-20 01:35:53 -0400 (Mon, 20 Oct 2025) EllapsedTime: 503.6 seconds RetCode: 0 Status: OK CheckDir: MAGAR.Rcheck Warnings: 0