Package: MAGAR Version: 1.17.0 Command: /home/biocbuild/bbs-3.22-bioc/R/bin/R CMD build --keep-empty-dirs --no-resave-data --md5 MAGAR StartedAt: 2025-10-19 18:25:07 -0400 (Sun, 19 Oct 2025) EndedAt: 2025-10-19 18:27:03 -0400 (Sun, 19 Oct 2025) EllapsedTime: 116.1 seconds RetCode: 0 Status: OK PackageFile: MAGAR_1.17.0.tar.gz PackageFileSize: 1.007 MiB