Package: MAGAR Version: 1.17.0 Command: /Library/Frameworks/R.framework/Resources/bin/R CMD INSTALL MAGAR StartedAt: 2025-10-19 15:55:11 -0400 (Sun, 19 Oct 2025) EndedAt: 2025-10-19 15:56:04 -0400 (Sun, 19 Oct 2025) EllapsedTime: 52.5 seconds RetCode: 0 Status: OK