Package: MAGAR Version: 1.17.0 Command: /Library/Frameworks/R.framework/Resources/bin/R CMD check --install=check:MAGAR.install-out.txt --library=/Library/Frameworks/R.framework/Resources/library --no-vignettes --timings MAGAR_1.17.0.tar.gz StartedAt: 2025-10-20 23:31:43 -0400 (Mon, 20 Oct 2025) EndedAt: 2025-10-20 23:42:37 -0400 (Mon, 20 Oct 2025) EllapsedTime: 653.7 seconds RetCode: 0 Status: OK CheckDir: MAGAR.Rcheck Warnings: 0