Package: MAGAR Version: 1.17.0 Command: rm -rf MAGAR.buildbin-libdir && mkdir MAGAR.buildbin-libdir && /Users/biocbuild/BBS/utils/build-universal.sh MAGAR_1.17.0.tar.gz /Library/Frameworks/R.framework/Resources/bin/R MAGAR.buildbin-libdir StartedAt: 2025-10-20 03:16:49 -0400 (Mon, 20 Oct 2025) EndedAt: 2025-10-20 03:18:29 -0400 (Mon, 20 Oct 2025) EllapsedTime: 99.9 seconds RetCode: 0 Status: OK PackageFile: MAGAR_1.17.0.tgz PackageFileSize: 1.702 MiB