Package: MAGAR Version: 1.17.0 Command: rm -rf MAGAR.buildbin-libdir && mkdir MAGAR.buildbin-libdir && /Users/biocbuild/BBS/utils/build-universal.sh MAGAR_1.17.0.tar.gz /Library/Frameworks/R.framework/Resources/bin/R MAGAR.buildbin-libdir StartedAt: 2025-10-19 23:04:48 -0400 (Sun, 19 Oct 2025) EndedAt: 2025-10-19 23:05:18 -0400 (Sun, 19 Oct 2025) EllapsedTime: 29.6 seconds RetCode: 0 Status: OK PackageFile: MAGAR_1.17.0.tgz PackageFileSize: 1.708 MiB