Package: MADSEQ Version: 1.35.1 Command: /home/biocbuild/R/R/bin/R CMD INSTALL MADSEQ StartedAt: 2025-10-20 21:34:56 -0000 (Mon, 20 Oct 2025) EndedAt: 2025-10-20 21:34:57 -0000 (Mon, 20 Oct 2025) EllapsedTime: 0.3 seconds RetCode: 1 Status: ERROR