Package: MACSr Version: 1.17.0 Command: /home/biocbuild/R/R/bin/R CMD INSTALL MACSr StartedAt: 2025-10-23 20:47:45 -0000 (Thu, 23 Oct 2025) EndedAt: 2025-10-23 20:48:07 -0000 (Thu, 23 Oct 2025) EllapsedTime: 21.4 seconds RetCode: 0 Status: OK