Package: MACSr Version: 1.17.0 Command: /home/biocbuild/R/R/bin/R CMD build --keep-empty-dirs --no-resave-data MACSr StartedAt: 2025-10-21 00:51:32 -0000 (Tue, 21 Oct 2025) EndedAt: 2025-10-21 00:52:21 -0000 (Tue, 21 Oct 2025) EllapsedTime: 49.0 seconds RetCode: 0 Status: OK PackageFile: MACSr_1.17.0.tar.gz PackageFileSize: 5.177 MiB