Package: MACSr Version: 1.17.0 Command: /home/biocbuild/bbs-3.22-bioc/R/bin/R CMD check --install=check:MACSr.install-out.txt --library=/home/biocbuild/bbs-3.22-bioc/R/site-library --timings MACSr_1.17.0.tar.gz StartedAt: 2025-10-25 01:05:56 -0400 (Sat, 25 Oct 2025) EndedAt: 2025-10-25 01:09:14 -0400 (Sat, 25 Oct 2025) EllapsedTime: 197.3 seconds RetCode: 0 Status: OK CheckDir: MACSr.Rcheck Warnings: 0