Package: MACSr Version: 1.17.0 Command: rm -rf MACSr.buildbin-libdir && mkdir MACSr.buildbin-libdir && /Users/biocbuild/BBS/utils/build-universal.sh MACSr_1.17.0.tar.gz /Library/Frameworks/R.framework/Resources/bin/R MACSr.buildbin-libdir StartedAt: 2025-10-25 01:47:39 -0400 (Sat, 25 Oct 2025) EndedAt: 2025-10-25 01:48:14 -0400 (Sat, 25 Oct 2025) EllapsedTime: 35.0 seconds RetCode: 0 Status: OK PackageFile: MACSr_1.17.0.tgz PackageFileSize: 5.328 MiB