Package: MACSr Version: 1.17.0 Command: /Library/Frameworks/R.framework/Resources/bin/R CMD INSTALL MACSr StartedAt: 2025-10-27 15:09:05 -0400 (Mon, 27 Oct 2025) EndedAt: 2025-10-27 15:09:12 -0400 (Mon, 27 Oct 2025) EllapsedTime: 7.3 seconds RetCode: 0 Status: OK