Package: MACSr Version: 1.17.0 Command: /Library/Frameworks/R.framework/Resources/bin/R CMD check --install=check:MACSr.install-out.txt --library=/Library/Frameworks/R.framework/Resources/library --no-vignettes --timings MACSr_1.17.0.tar.gz StartedAt: 2025-10-27 20:27:50 -0400 (Mon, 27 Oct 2025) EndedAt: 2025-10-27 20:29:00 -0400 (Mon, 27 Oct 2025) EllapsedTime: 69.9 seconds RetCode: 0 Status: OK CheckDir: MACSr.Rcheck Warnings: 0