Package: M3Drop Version: 1.35.0 Command: /Library/Frameworks/R.framework/Resources/bin/R CMD INSTALL M3Drop StartedAt: 2025-10-16 16:15:45 -0400 (Thu, 16 Oct 2025) EndedAt: 2025-10-16 16:16:08 -0400 (Thu, 16 Oct 2025) EllapsedTime: 23.5 seconds RetCode: 0 Status: OK