Package: M3Drop Version: 1.35.0 Command: /Library/Frameworks/R.framework/Resources/bin/R CMD build --keep-empty-dirs --no-resave-data M3Drop StartedAt: 2025-10-16 18:19:04 -0400 (Thu, 16 Oct 2025) EndedAt: 2025-10-16 18:21:59 -0400 (Thu, 16 Oct 2025) EllapsedTime: 175.9 seconds RetCode: 0 Status: OK PackageFile: M3Drop_1.35.0.tar.gz PackageFileSize: 12.25 MiB