Package: LoomExperiment Version: 1.27.0 Command: /Library/Frameworks/R.framework/Resources/bin/R CMD check --install=check:LoomExperiment.install-out.txt --library=/Library/Frameworks/R.framework/Resources/library --no-vignettes --timings LoomExperiment_1.27.0.tar.gz StartedAt: 2025-10-01 20:17:12 -0400 (Wed, 01 Oct 2025) EndedAt: 2025-10-01 20:18:29 -0400 (Wed, 01 Oct 2025) EllapsedTime: 77.2 seconds RetCode: 0 Status: OK CheckDir: LoomExperiment.Rcheck Warnings: 0