Package: LipidTrend Version: 0.99.2 Command: /home/biocbuild/R/R/bin/R CMD INSTALL LipidTrend StartedAt: 2025-10-20 20:30:53 -0000 (Mon, 20 Oct 2025) EndedAt: 2025-10-20 20:31:27 -0000 (Mon, 20 Oct 2025) EllapsedTime: 34.5 seconds RetCode: 0 Status: OK