Package: LipidTrend Version: 0.99.2 Command: /home/biocbuild/R/R/bin/R CMD build --keep-empty-dirs --no-resave-data LipidTrend StartedAt: 2025-10-17 02:14:26 -0000 (Fri, 17 Oct 2025) EndedAt: 2025-10-17 02:15:22 -0000 (Fri, 17 Oct 2025) EllapsedTime: 56.0 seconds RetCode: 0 Status: OK PackageFile: LipidTrend_0.99.2.tar.gz PackageFileSize: 488.2 KiB