Package: LipidTrend Version: 0.99.2 Command: /home/biocbuild/bbs-3.22-bioc/R/bin/R CMD check --install=check:LipidTrend.install-out.txt --library=/home/biocbuild/bbs-3.22-bioc/R/site-library --timings LipidTrend_0.99.2.tar.gz StartedAt: 2025-10-21 01:16:21 -0400 (Tue, 21 Oct 2025) EndedAt: 2025-10-21 01:19:36 -0400 (Tue, 21 Oct 2025) EllapsedTime: 195.3 seconds RetCode: 0 Status: OK CheckDir: LipidTrend.Rcheck Warnings: 0