Package: LipidTrend Version: 0.99.2 Command: /home/biocbuild/bbs-3.22-bioc/R/bin/R CMD build --keep-empty-dirs --no-resave-data --md5 LipidTrend StartedAt: 2025-10-20 18:18:50 -0400 (Mon, 20 Oct 2025) EndedAt: 2025-10-20 18:19:31 -0400 (Mon, 20 Oct 2025) EllapsedTime: 41.0 seconds RetCode: 0 Status: OK PackageFile: LipidTrend_0.99.2.tar.gz PackageFileSize: 767.7 KiB