Package: LipidTrend Version: 0.99.2 Command: /Library/Frameworks/R.framework/Resources/bin/R CMD build --keep-empty-dirs --no-resave-data LipidTrend StartedAt: 2025-10-21 17:54:38 -0400 (Tue, 21 Oct 2025) EndedAt: 2025-10-21 17:55:46 -0400 (Tue, 21 Oct 2025) EllapsedTime: 68.1 seconds RetCode: 0 Status: OK PackageFile: LipidTrend_0.99.2.tar.gz PackageFileSize: 791.7 KiB