Package: LipidTrend Version: 0.99.2 Command: rm -rf LipidTrend.buildbin-libdir && mkdir LipidTrend.buildbin-libdir && /Users/biocbuild/BBS/utils/build-universal.sh LipidTrend_0.99.2.tar.gz /Library/Frameworks/R.framework/Resources/bin/R LipidTrend.buildbin-libdir StartedAt: 2025-10-22 02:31:55 -0400 (Wed, 22 Oct 2025) EndedAt: 2025-10-22 02:32:33 -0400 (Wed, 22 Oct 2025) EllapsedTime: 38.3 seconds RetCode: 0 Status: OK PackageFile: LipidTrend_0.99.2.tgz PackageFileSize: 1.045 MiB