Package: LipidTrend Version: 0.99.2 Command: /Library/Frameworks/R.framework/Resources/bin/R CMD INSTALL LipidTrend StartedAt: 2025-10-23 15:11:49 -0400 (Thu, 23 Oct 2025) EndedAt: 2025-10-23 15:11:59 -0400 (Thu, 23 Oct 2025) EllapsedTime: 9.8 seconds RetCode: 0 Status: OK