Package: LipidTrend Version: 0.99.2 Command: /Library/Frameworks/R.framework/Resources/bin/R CMD check --install=check:LipidTrend.install-out.txt --library=/Library/Frameworks/R.framework/Resources/library --no-vignettes --timings LipidTrend_0.99.2.tar.gz StartedAt: 2025-10-26 20:19:21 -0400 (Sun, 26 Oct 2025) EndedAt: 2025-10-26 20:20:31 -0400 (Sun, 26 Oct 2025) EllapsedTime: 69.8 seconds RetCode: 0 Status: OK CheckDir: LipidTrend.Rcheck Warnings: 0