Package: LipidTrend Version: 0.99.2 Command: /Library/Frameworks/R.framework/Resources/bin/R CMD build --keep-empty-dirs --no-resave-data LipidTrend StartedAt: 2025-10-23 16:53:08 -0400 (Thu, 23 Oct 2025) EndedAt: 2025-10-23 16:53:27 -0400 (Thu, 23 Oct 2025) EllapsedTime: 18.3 seconds RetCode: 0 Status: OK PackageFile: LipidTrend_0.99.2.tar.gz PackageFileSize: 791.7 KiB