Package: LipidTrend Version: 0.99.2 Maintainer: Wei-Chung Cheng MaintainerEmail: chenglabomics at gmail.com git_url: https://git.bioconductor.org/packages/LipidTrend git_branch: devel git_last_commit: df58888 git_last_commit_date: 2025-08-19 22:59:57 -0400 (Tue, 19 Aug 2025)