Package: LinkHD Version: 1.23.0 Command: /home/biocbuild/R/R/bin/R CMD check --install=check:LinkHD.install-out.txt --library=/home/biocbuild/R/R/site-library --no-vignettes --timings LinkHD_1.23.0.tar.gz StartedAt: 2025-10-17 10:33:13 -0000 (Fri, 17 Oct 2025) EndedAt: 2025-10-17 10:37:39 -0000 (Fri, 17 Oct 2025) EllapsedTime: 266.3 seconds RetCode: 0 Status: OK CheckDir: LinkHD.Rcheck Warnings: 0