Package: LinkHD Version: 1.23.0 Command: /home/biocbuild/R/R/bin/R CMD build --keep-empty-dirs --no-resave-data LinkHD StartedAt: 2025-10-17 02:13:16 -0000 (Fri, 17 Oct 2025) EndedAt: 2025-10-17 02:14:44 -0000 (Fri, 17 Oct 2025) EllapsedTime: 88.0 seconds RetCode: 0 Status: OK PackageFile: LinkHD_1.23.0.tar.gz PackageFileSize: 1.897 MiB